BEGIN:VCALENDAR
VERSION:2.0
PRODID:-//Brighton Buddhist Centre - ECPv6.15.20//NONSGML v1.0//EN
CALSCALE:GREGORIAN
METHOD:PUBLISH
X-WR-CALNAME:Brighton Buddhist Centre
X-ORIGINAL-URL:https://www.brightonbuddhistcentre.co.uk
X-WR-CALDESC:Events for Brighton Buddhist Centre
REFRESH-INTERVAL;VALUE=DURATION:PT1H
X-Robots-Tag:noindex
X-PUBLISHED-TTL:PT1H
BEGIN:VTIMEZONE
TZID:Europe/London
BEGIN:DAYLIGHT
TZOFFSETFROM:+0000
TZOFFSETTO:+0100
TZNAME:BST
DTSTART:20250330T010000
END:DAYLIGHT
BEGIN:STANDARD
TZOFFSETFROM:+0100
TZOFFSETTO:+0000
TZNAME:GMT
DTSTART:20251026T010000
END:STANDARD
BEGIN:DAYLIGHT
TZOFFSETFROM:+0000
TZOFFSETTO:+0100
TZNAME:BST
DTSTART:20260329T010000
END:DAYLIGHT
BEGIN:STANDARD
TZOFFSETFROM:+0100
TZOFFSETTO:+0000
TZNAME:GMT
DTSTART:20261025T010000
END:STANDARD
BEGIN:DAYLIGHT
TZOFFSETFROM:+0000
TZOFFSETTO:+0100
TZNAME:BST
DTSTART:20270328T010000
END:DAYLIGHT
BEGIN:STANDARD
TZOFFSETFROM:+0100
TZOFFSETTO:+0000
TZNAME:GMT
DTSTART:20271031T010000
END:STANDARD
END:VTIMEZONE
BEGIN:VEVENT
DTSTART;TZID=Europe/London:20260506T183000
DTEND;TZID=Europe/London:20260506T203000
DTSTAMP:20260424T003531
CREATED:20260304T143341Z
LAST-MODIFIED:20260312T164009Z
UID:10114711-1778092200-1778099400@www.brightonbuddhistcentre.co.uk
SUMMARY:The Brighton Lectures 2026 - A Method of Personal Development with Mahamati
DESCRIPTION:A Method of Personal Development with Mahamati \nPlease note – tickets for this event on our website are likely to sell out soon. If so\, you can also book via this link: www.brightonfringe.org/events/buddhism-for-today-and-tomorrow/ \n…then if the Brighton Fringe website sells out too\, come back here and add your name to the Waiting List – there will be some more places soon\, first come\, first served. \nOther talks in this series: \nWednesday 13th May – A Vision of Human Existence with Vishvapani book here\n \nWednesday 20th May – The Nucleus of a New Society with Parami book here \nWednesday 27th May – A Blueprint for a New World with Subhuti book here \nor return to the main page here
URL:https://www.brightonbuddhistcentre.co.uk/whats-on/the-brighton-lectures-2026-1/
LOCATION:The Brighton Buddhist Centre\, Brighton Buddhist Centre\, 17 Tichborne Street\, Brighton\, BN1 1UR\, United Kingdom
ATTACH;FMTTYPE=image/webp:https://www.brightonbuddhistcentre.co.uk/wp-content/uploads/2026/03/pavillion.webp
END:VEVENT
BEGIN:VEVENT
DTSTART;TZID=Europe/London:20260513T183000
DTEND;TZID=Europe/London:20260513T203000
DTSTAMP:20260424T003531
CREATED:20260312T173234Z
LAST-MODIFIED:20260327T154557Z
UID:10114740-1778697000-1778704200@www.brightonbuddhistcentre.co.uk
SUMMARY:The Brighton Lectures 2026 - A Vision of Human Existence with Vishvapani
DESCRIPTION:A Vision of Human Existence with Vishvapani \n\nPlease note – tickets for this event on our website are likely to sell out soon. If so\, you can also book via this link: www.brightonfringe.org/events/buddhism-for-today-and-tomorrow/ \n…then if the Brighton Fringe website sells out too\, come back here and add your name to the Waiting List – there will be some more places soon\, first come\, first served. \nOther talks in this series: \nWednesday 6th May – A Method of Personal Development with Mahamati book here \nWednesday 20th May – The Nucleus of a New Society with Parami book here \nWednesday 27th May – A Blueprint for a New World with Subhuti book here \nor return to the main page here
URL:https://www.brightonbuddhistcentre.co.uk/whats-on/the-brighton-lectures-2026-2/
LOCATION:The Brighton Buddhist Centre\, Brighton Buddhist Centre\, 17 Tichborne Street\, Brighton\, BN1 1UR\, United Kingdom
ATTACH;FMTTYPE=image/webp:https://www.brightonbuddhistcentre.co.uk/wp-content/uploads/2026/03/pavillion.webp
END:VEVENT
BEGIN:VEVENT
DTSTART;TZID=Europe/London:20260520T183000
DTEND;TZID=Europe/London:20260520T203000
DTSTAMP:20260424T003531
CREATED:20260312T165052Z
LAST-MODIFIED:20260408T132727Z
UID:10114736-1779301800-1779309000@www.brightonbuddhistcentre.co.uk
SUMMARY:The Brighton Lectures 2026 - The Nucleus of a New Society with Parami
DESCRIPTION:The Nucleus of a New Society with Parami  \nPlease note – tickets for this event on our website are likely to sell out soon. If so\, you can also book via this link: www.brightonfringe.org/events/buddhism-for-today-and-tomorrow/ \n…then if the Brighton Fringe website sells out too\, come back here and add your name to the Waiting List – there will be some more places soon\, first come\, first served. \nOther talks in this series: \nWednesday 6th May – A Method of Personal Development with Mahamati book here \nWednesday 13th May – A Vision of Human Existence with Vishvapani book here \nWednesday 27th May – A Blueprint for a New World with Subhuti book here \nor return to the main page here
URL:https://www.brightonbuddhistcentre.co.uk/whats-on/the-brighton-lectures-2026-3/
LOCATION:The Brighton Buddhist Centre\, Brighton Buddhist Centre\, 17 Tichborne Street\, Brighton\, BN1 1UR\, United Kingdom
ATTACH;FMTTYPE=image/webp:https://www.brightonbuddhistcentre.co.uk/wp-content/uploads/2026/03/pavillion.webp
END:VEVENT
BEGIN:VEVENT
DTSTART;TZID=Europe/London:20260527T183000
DTEND;TZID=Europe/London:20260527T203000
DTSTAMP:20260424T003531
CREATED:20260312T165450Z
LAST-MODIFIED:20260411T114615Z
UID:10114737-1779906600-1779913800@www.brightonbuddhistcentre.co.uk
SUMMARY:The Brighton Lectures 2026 - A Blueprint for a New World with Subhuti
DESCRIPTION:A Blueprint for a New World with Subhuti\nPlease note – this evening is now sold out . Please add your name to the Waiting List and we will contact you if a place become available. \nOther talks in this series: \nWednesday 6th May – A Method of Personal Development with Mahamati book here \nWednesday 13th May – A Vision of Human Existence with Vishvapani book here \nWednesday 20th May – The Nucleus of a New Society with Parami book here \nor return to the main page here
URL:https://www.brightonbuddhistcentre.co.uk/whats-on/the-brighton-lectures-2026-4/
LOCATION:The Brighton Buddhist Centre\, Brighton Buddhist Centre\, 17 Tichborne Street\, Brighton\, BN1 1UR\, United Kingdom
ATTACH;FMTTYPE=image/webp:https://www.brightonbuddhistcentre.co.uk/wp-content/uploads/2026/03/pavillion.webp
END:VEVENT
END:VCALENDAR