BEGIN:VCALENDAR
VERSION:2.0
PRODID:-//Brighton Buddhist Centre - ECPv6.15.20//NONSGML v1.0//EN
CALSCALE:GREGORIAN
METHOD:PUBLISH
X-WR-CALNAME:Brighton Buddhist Centre
X-ORIGINAL-URL:https://www.brightonbuddhistcentre.co.uk
X-WR-CALDESC:Events for Brighton Buddhist Centre
REFRESH-INTERVAL;VALUE=DURATION:PT1H
X-Robots-Tag:noindex
X-PUBLISHED-TTL:PT1H
BEGIN:VTIMEZONE
TZID:Europe/London
BEGIN:DAYLIGHT
TZOFFSETFROM:+0000
TZOFFSETTO:+0100
TZNAME:BST
DTSTART:20250330T010000
END:DAYLIGHT
BEGIN:STANDARD
TZOFFSETFROM:+0100
TZOFFSETTO:+0000
TZNAME:GMT
DTSTART:20251026T010000
END:STANDARD
BEGIN:DAYLIGHT
TZOFFSETFROM:+0000
TZOFFSETTO:+0100
TZNAME:BST
DTSTART:20260329T010000
END:DAYLIGHT
BEGIN:STANDARD
TZOFFSETFROM:+0100
TZOFFSETTO:+0000
TZNAME:GMT
DTSTART:20261025T010000
END:STANDARD
BEGIN:DAYLIGHT
TZOFFSETFROM:+0000
TZOFFSETTO:+0100
TZNAME:BST
DTSTART:20270328T010000
END:DAYLIGHT
BEGIN:STANDARD
TZOFFSETFROM:+0100
TZOFFSETTO:+0000
TZNAME:GMT
DTSTART:20271031T010000
END:STANDARD
END:VTIMEZONE
BEGIN:VEVENT
DTSTART;TZID=Europe/London:20260506T183000
DTEND;TZID=Europe/London:20260506T203000
DTSTAMP:20260421T153807
CREATED:20251123T162248Z
LAST-MODIFIED:20260313T105337Z
UID:10114702-1778092200-1778099400@www.brightonbuddhistcentre.co.uk
SUMMARY:Full Moon Pujas
DESCRIPTION:In person in the Garden Shrine Room\n6.30 pm to 8.30pm \nThis is an opportunity for us to come together in sangha and practice ritual and devotion together. \nFuture dates: \n(No puja on Wednesday 6th May – the Brighton Lectures 2026 instead) \nWednesday 3rd June \nWednesday 1st July \nWednesday 26th August also Bhante’s Birthday celebration \nWednesday 23rd September \nWednesday 28th October \nWednesday 25th November \nWednesday 23rd December \nNo need to book\, by donation \nThese evenings are intended for us to gather together as sangha and are open to anyone who has attended introductory courses in Buddhism and is familiar with the Mindfulness of Breathing and the Metta Bhavana meditation practices.
URL:https://www.brightonbuddhistcentre.co.uk/whats-on/full-moon-puja-2026/2026-05-06/
LOCATION:The Brighton Buddhist Centre\, Brighton Buddhist Centre\, 17 Tichborne Street\, Brighton\, BN1 1UR\, United Kingdom
CATEGORIES:Puja,Other events
ATTACH;FMTTYPE=image/jpeg:https://www.brightonbuddhistcentre.co.uk/wp-content/uploads/2024/11/sangha1-1.jpg
END:VEVENT
BEGIN:VEVENT
DTSTART;TZID=Europe/London:20260603T183000
DTEND;TZID=Europe/London:20260603T203000
DTSTAMP:20260421T153807
CREATED:20251123T162248Z
LAST-MODIFIED:20260313T105337Z
UID:10114703-1780511400-1780518600@www.brightonbuddhistcentre.co.uk
SUMMARY:Full Moon Pujas
DESCRIPTION:In person in the Garden Shrine Room\n6.30 pm to 8.30pm \nThis is an opportunity for us to come together in sangha and practice ritual and devotion together. \nFuture dates: \n(No puja on Wednesday 6th May – the Brighton Lectures 2026 instead) \nWednesday 3rd June \nWednesday 1st July \nWednesday 26th August also Bhante’s Birthday celebration \nWednesday 23rd September \nWednesday 28th October \nWednesday 25th November \nWednesday 23rd December \nNo need to book\, by donation \nThese evenings are intended for us to gather together as sangha and are open to anyone who has attended introductory courses in Buddhism and is familiar with the Mindfulness of Breathing and the Metta Bhavana meditation practices.
URL:https://www.brightonbuddhistcentre.co.uk/whats-on/full-moon-puja-2026/2026-06-03/
LOCATION:The Brighton Buddhist Centre\, Brighton Buddhist Centre\, 17 Tichborne Street\, Brighton\, BN1 1UR\, United Kingdom
CATEGORIES:Puja,Other events
ATTACH;FMTTYPE=image/jpeg:https://www.brightonbuddhistcentre.co.uk/wp-content/uploads/2024/11/sangha1-1.jpg
END:VEVENT
BEGIN:VEVENT
DTSTART;TZID=Europe/London:20260701T183000
DTEND;TZID=Europe/London:20260701T203000
DTSTAMP:20260421T153807
CREATED:20251123T162248Z
LAST-MODIFIED:20260313T105337Z
UID:10114704-1782930600-1782937800@www.brightonbuddhistcentre.co.uk
SUMMARY:Full Moon Pujas
DESCRIPTION:In person in the Garden Shrine Room\n6.30 pm to 8.30pm \nThis is an opportunity for us to come together in sangha and practice ritual and devotion together. \nFuture dates: \n(No puja on Wednesday 6th May – the Brighton Lectures 2026 instead) \nWednesday 3rd June \nWednesday 1st July \nWednesday 26th August also Bhante’s Birthday celebration \nWednesday 23rd September \nWednesday 28th October \nWednesday 25th November \nWednesday 23rd December \nNo need to book\, by donation \nThese evenings are intended for us to gather together as sangha and are open to anyone who has attended introductory courses in Buddhism and is familiar with the Mindfulness of Breathing and the Metta Bhavana meditation practices.
URL:https://www.brightonbuddhistcentre.co.uk/whats-on/full-moon-puja-2026/2026-07-01/
LOCATION:The Brighton Buddhist Centre\, Brighton Buddhist Centre\, 17 Tichborne Street\, Brighton\, BN1 1UR\, United Kingdom
CATEGORIES:Puja,Other events
ATTACH;FMTTYPE=image/jpeg:https://www.brightonbuddhistcentre.co.uk/wp-content/uploads/2024/11/sangha1-1.jpg
END:VEVENT
BEGIN:VEVENT
DTSTART;TZID=Europe/London:20260826T183000
DTEND;TZID=Europe/London:20260826T200000
DTSTAMP:20260421T153807
CREATED:20251123T162248Z
LAST-MODIFIED:20260313T105337Z
UID:10114705-1787769000-1787774400@www.brightonbuddhistcentre.co.uk
SUMMARY:Full Moon Pujas
DESCRIPTION:In person in the Garden Shrine Room\n6.30 pm to 8.30pm \nThis is an opportunity for us to come together in sangha and practice ritual and devotion together. \nFuture dates: \n(No puja on Wednesday 6th May – the Brighton Lectures 2026 instead) \nWednesday 3rd June \nWednesday 1st July \nWednesday 26th August also Bhante’s Birthday celebration \nWednesday 23rd September \nWednesday 28th October \nWednesday 25th November \nWednesday 23rd December \nNo need to book\, by donation \nThese evenings are intended for us to gather together as sangha and are open to anyone who has attended introductory courses in Buddhism and is familiar with the Mindfulness of Breathing and the Metta Bhavana meditation practices.
URL:https://www.brightonbuddhistcentre.co.uk/whats-on/full-moon-puja-2026/2026-08-26/
LOCATION:The Brighton Buddhist Centre\, Brighton Buddhist Centre\, 17 Tichborne Street\, Brighton\, BN1 1UR\, United Kingdom
CATEGORIES:Puja,Other events
ATTACH;FMTTYPE=image/jpeg:https://www.brightonbuddhistcentre.co.uk/wp-content/uploads/2024/11/sangha1-1.jpg
END:VEVENT
BEGIN:VEVENT
DTSTART;TZID=Europe/London:20260923T183000
DTEND;TZID=Europe/London:20260923T203000
DTSTAMP:20260421T153807
CREATED:20251123T162248Z
LAST-MODIFIED:20260313T105337Z
UID:10114706-1790188200-1790195400@www.brightonbuddhistcentre.co.uk
SUMMARY:Full Moon Pujas
DESCRIPTION:In person in the Garden Shrine Room\n6.30 pm to 8.30pm \nThis is an opportunity for us to come together in sangha and practice ritual and devotion together. \nFuture dates: \n(No puja on Wednesday 6th May – the Brighton Lectures 2026 instead) \nWednesday 3rd June \nWednesday 1st July \nWednesday 26th August also Bhante’s Birthday celebration \nWednesday 23rd September \nWednesday 28th October \nWednesday 25th November \nWednesday 23rd December \nNo need to book\, by donation \nThese evenings are intended for us to gather together as sangha and are open to anyone who has attended introductory courses in Buddhism and is familiar with the Mindfulness of Breathing and the Metta Bhavana meditation practices.
URL:https://www.brightonbuddhistcentre.co.uk/whats-on/full-moon-puja-2026/2026-09-23/
LOCATION:The Brighton Buddhist Centre\, Brighton Buddhist Centre\, 17 Tichborne Street\, Brighton\, BN1 1UR\, United Kingdom
CATEGORIES:Puja,Other events
ATTACH;FMTTYPE=image/jpeg:https://www.brightonbuddhistcentre.co.uk/wp-content/uploads/2024/11/sangha1-1.jpg
END:VEVENT
BEGIN:VEVENT
DTSTART;TZID=Europe/London:20261028T183000
DTEND;TZID=Europe/London:20261028T203000
DTSTAMP:20260421T153807
CREATED:20251123T162248Z
LAST-MODIFIED:20260313T105337Z
UID:10114707-1793212200-1793219400@www.brightonbuddhistcentre.co.uk
SUMMARY:Full Moon Pujas
DESCRIPTION:In person in the Garden Shrine Room\n6.30 pm to 8.30pm \nThis is an opportunity for us to come together in sangha and practice ritual and devotion together. \nFuture dates: \n(No puja on Wednesday 6th May – the Brighton Lectures 2026 instead) \nWednesday 3rd June \nWednesday 1st July \nWednesday 26th August also Bhante’s Birthday celebration \nWednesday 23rd September \nWednesday 28th October \nWednesday 25th November \nWednesday 23rd December \nNo need to book\, by donation \nThese evenings are intended for us to gather together as sangha and are open to anyone who has attended introductory courses in Buddhism and is familiar with the Mindfulness of Breathing and the Metta Bhavana meditation practices.
URL:https://www.brightonbuddhistcentre.co.uk/whats-on/full-moon-puja-2026/2026-10-28/
LOCATION:The Brighton Buddhist Centre\, Brighton Buddhist Centre\, 17 Tichborne Street\, Brighton\, BN1 1UR\, United Kingdom
CATEGORIES:Puja,Other events
ATTACH;FMTTYPE=image/jpeg:https://www.brightonbuddhistcentre.co.uk/wp-content/uploads/2024/11/sangha1-1.jpg
END:VEVENT
BEGIN:VEVENT
DTSTART;TZID=Europe/London:20261125T183000
DTEND;TZID=Europe/London:20261125T203000
DTSTAMP:20260421T153807
CREATED:20251123T162248Z
LAST-MODIFIED:20260313T105337Z
UID:10114708-1795631400-1795638600@www.brightonbuddhistcentre.co.uk
SUMMARY:Full Moon Pujas
DESCRIPTION:In person in the Garden Shrine Room\n6.30 pm to 8.30pm \nThis is an opportunity for us to come together in sangha and practice ritual and devotion together. \nFuture dates: \n(No puja on Wednesday 6th May – the Brighton Lectures 2026 instead) \nWednesday 3rd June \nWednesday 1st July \nWednesday 26th August also Bhante’s Birthday celebration \nWednesday 23rd September \nWednesday 28th October \nWednesday 25th November \nWednesday 23rd December \nNo need to book\, by donation \nThese evenings are intended for us to gather together as sangha and are open to anyone who has attended introductory courses in Buddhism and is familiar with the Mindfulness of Breathing and the Metta Bhavana meditation practices.
URL:https://www.brightonbuddhistcentre.co.uk/whats-on/full-moon-puja-2026/2026-11-25/
LOCATION:The Brighton Buddhist Centre\, Brighton Buddhist Centre\, 17 Tichborne Street\, Brighton\, BN1 1UR\, United Kingdom
CATEGORIES:Puja,Other events
ATTACH;FMTTYPE=image/jpeg:https://www.brightonbuddhistcentre.co.uk/wp-content/uploads/2024/11/sangha1-1.jpg
END:VEVENT
BEGIN:VEVENT
DTSTART;TZID=Europe/London:20261223T183000
DTEND;TZID=Europe/London:20261223T203000
DTSTAMP:20260421T153807
CREATED:20251123T162248Z
LAST-MODIFIED:20260313T105337Z
UID:10114709-1798050600-1798057800@www.brightonbuddhistcentre.co.uk
SUMMARY:Full Moon Pujas
DESCRIPTION:In person in the Garden Shrine Room\n6.30 pm to 8.30pm \nThis is an opportunity for us to come together in sangha and practice ritual and devotion together. \nFuture dates: \n(No puja on Wednesday 6th May – the Brighton Lectures 2026 instead) \nWednesday 3rd June \nWednesday 1st July \nWednesday 26th August also Bhante’s Birthday celebration \nWednesday 23rd September \nWednesday 28th October \nWednesday 25th November \nWednesday 23rd December \nNo need to book\, by donation \nThese evenings are intended for us to gather together as sangha and are open to anyone who has attended introductory courses in Buddhism and is familiar with the Mindfulness of Breathing and the Metta Bhavana meditation practices.
URL:https://www.brightonbuddhistcentre.co.uk/whats-on/full-moon-puja-2026/2026-12-23/
LOCATION:The Brighton Buddhist Centre\, Brighton Buddhist Centre\, 17 Tichborne Street\, Brighton\, BN1 1UR\, United Kingdom
CATEGORIES:Puja,Other events
ATTACH;FMTTYPE=image/jpeg:https://www.brightonbuddhistcentre.co.uk/wp-content/uploads/2024/11/sangha1-1.jpg
END:VEVENT
END:VCALENDAR