BEGIN:VCALENDAR
VERSION:2.0
PRODID:-//Brighton Buddhist Centre - ECPv6.15.20//NONSGML v1.0//EN
CALSCALE:GREGORIAN
METHOD:PUBLISH
X-ORIGINAL-URL:https://www.brightonbuddhistcentre.co.uk
X-WR-CALDESC:Events for Brighton Buddhist Centre
REFRESH-INTERVAL;VALUE=DURATION:PT1H
X-Robots-Tag:noindex
X-PUBLISHED-TTL:PT1H
BEGIN:VTIMEZONE
TZID:Europe/London
BEGIN:DAYLIGHT
TZOFFSETFROM:+0000
TZOFFSETTO:+0100
TZNAME:BST
DTSTART:20250330T010000
END:DAYLIGHT
BEGIN:STANDARD
TZOFFSETFROM:+0100
TZOFFSETTO:+0000
TZNAME:GMT
DTSTART:20251026T010000
END:STANDARD
BEGIN:DAYLIGHT
TZOFFSETFROM:+0000
TZOFFSETTO:+0100
TZNAME:BST
DTSTART:20260329T010000
END:DAYLIGHT
BEGIN:STANDARD
TZOFFSETFROM:+0100
TZOFFSETTO:+0000
TZNAME:GMT
DTSTART:20261025T010000
END:STANDARD
BEGIN:DAYLIGHT
TZOFFSETFROM:+0000
TZOFFSETTO:+0100
TZNAME:BST
DTSTART:20270328T010000
END:DAYLIGHT
BEGIN:STANDARD
TZOFFSETFROM:+0100
TZOFFSETTO:+0000
TZNAME:GMT
DTSTART:20271031T010000
END:STANDARD
END:VTIMEZONE
BEGIN:VEVENT
DTSTART;TZID=Europe/London:20260327T120000
DTEND;TZID=Europe/London:20260327T131500
DTSTAMP:20260423T232613
CREATED:20230419T161206Z
LAST-MODIFIED:20230628T091240Z
UID:10003512-1774612800-1774617300@www.brightonbuddhistcentre.co.uk
SUMMARY:Vajrasati yoga with Pablo
DESCRIPTION:Pablo has been teaching Yoga since 2009. He recently completed a 2 year\, 500+ hours (YAUK) teacher training with the Vajrasati school. He has a keen interest in Yoga philosophy and is currently enrolled on “Yoga Sutra Illuminated”\, an online course with Tantra and Sanskrit scholar/practitioner Chris Wallis (Hareesh). \nOff the mat\, Pablo is an experimental musician\, releasing electronic music on international labels and touring regularly. He hosts a monthly radio show “The Infinite Inward” on Resonance Extra\, playing deep\, cosmic new-age and ambient sounds. \nhttps://pablo-yoga.com/ \n£10 full price. £8 concessions
URL:https://www.brightonbuddhistcentre.co.uk/whats-on/vajrasati-yoga-with-pablo-2/2026-03-27/
LOCATION:The Brighton Buddhist Centre\, Brighton Buddhist Centre\, 17 Tichborne Street\, Brighton\, BN1 1UR\, United Kingdom
CATEGORIES:Yoga
ATTACH;FMTTYPE=image/webp:https://www.brightonbuddhistcentre.co.uk/wp-content/uploads/2022/11/pablo-square.webp
END:VEVENT
BEGIN:VEVENT
DTSTART;VALUE=DATE:20260327
DTEND;VALUE=DATE:20260330
DTSTAMP:20260423T232613
CREATED:20260226T161607Z
LAST-MODIFIED:20260226T161731Z
UID:10114399-1774569600-1774828799@www.brightonbuddhistcentre.co.uk
SUMMARY:Sub30 Weekend - "The Shepherd’s Search for Mind" at Adhisthana
DESCRIPTION:  \n\n\nMore information and booking
URL:https://www.brightonbuddhistcentre.co.uk/whats-on/sub30-weekend-the-shepherds-search-for-mind-at-adhisthana/
LOCATION:The Brighton Buddhist Centre\, Brighton Buddhist Centre\, 17 Tichborne Street\, Brighton\, BN1 1UR\, United Kingdom
CATEGORIES:Other events
ATTACH;FMTTYPE=image/jpeg:https://www.brightonbuddhistcentre.co.uk/wp-content/uploads/2026/02/Adhisthana.jpg
END:VEVENT
BEGIN:VEVENT
DTSTART;TZID=Europe/London:20260326T123000
DTEND;TZID=Europe/London:20260326T133000
DTSTAMP:20260423T232613
CREATED:20251219T162253Z
LAST-MODIFIED:20251219T162254Z
UID:10014178-1774528200-1774531800@www.brightonbuddhistcentre.co.uk
SUMMARY:Drop in meditation class for those living with cancer and their carers
DESCRIPTION:Every Thursday \n12.30pm to 1.30pm \nOpen to anyone with experience of cancer at present or in the past. \nWe are a small\, safe group offering company\, friendship\, mutual support and listening\, along with guided meditation led by an experienced team. \nNo need to book\, by donation
URL:https://www.brightonbuddhistcentre.co.uk/whats-on/drop-in-meditation-class-for-those-living-with-cancer-and-their-carers-2/2026-03-26/
LOCATION:The Brighton Buddhist Centre\, Brighton Buddhist Centre\, 17 Tichborne Street\, Brighton\, BN1 1UR\, United Kingdom
CATEGORIES:Meditation
ATTACH;FMTTYPE=image/jpeg:https://www.brightonbuddhistcentre.co.uk/wp-content/uploads/2024/02/Thursdays.jpg
END:VEVENT
BEGIN:VEVENT
DTSTART;TZID=Europe/London:20260326T103000
DTEND;TZID=Europe/London:20260326T121500
DTSTAMP:20260423T232613
CREATED:20251219T162453Z
LAST-MODIFIED:20251219T162455Z
UID:10002439-1774521000-1774527300@www.brightonbuddhistcentre.co.uk
SUMMARY:Thursday morning drop-in meditation class
DESCRIPTION:You are warmly welcome to join this session if you would like to go a little further in meditation.  Each week we explore different aspects or themes with the help of some teaching input and practising together.  You just need to be familiar with mindfulness of breathing and metta bhavana. \nBy Donation \nGenerosity and Giving | Brighton Buddhist Centre
URL:https://www.brightonbuddhistcentre.co.uk/whats-on/thursday-morning-drop-in-meditation-class-2-2-2-2/2026-03-26/
LOCATION:The Brighton Buddhist Centre\, Brighton Buddhist Centre\, 17 Tichborne Street\, Brighton\, BN1 1UR\, United Kingdom
CATEGORIES:Meditation
ATTACH;FMTTYPE=image/jpeg:https://www.brightonbuddhistcentre.co.uk/wp-content/uploads/2020/08/IMG_6770.jpg
END:VEVENT
BEGIN:VEVENT
DTSTART;TZID=Europe/London:20260325T130000
DTEND;TZID=Europe/London:20260325T134500
DTSTAMP:20260423T232613
CREATED:20251219T161901Z
LAST-MODIFIED:20251219T161903Z
UID:10006811-1774443600-1774446300@www.brightonbuddhistcentre.co.uk
SUMMARY:Wednesday lunchtime drop-in meditation class
DESCRIPTION:Whether you have never been to the Buddhist Centre before or are a seasoned regular you are warmly invited to join us. We begin with a guided body scan\, followed by an introduction to the mindfulness of breathing practice. We conclude with a lightly led metta bhavana meditation. \nBy donation
URL:https://www.brightonbuddhistcentre.co.uk/whats-on/wednesday-lunchtime-drop-in-meditation-class-2/2026-03-25/
LOCATION:The Brighton Buddhist Centre\, Brighton Buddhist Centre\, 17 Tichborne Street\, Brighton\, BN1 1UR\, United Kingdom
CATEGORIES:Meditation
ATTACH;FMTTYPE=image/jpeg:https://www.brightonbuddhistcentre.co.uk/wp-content/uploads/2020/08/IMG_6831.jpg
END:VEVENT
BEGIN:VEVENT
DTSTART;TZID=Europe/London:20260325T100000
DTEND;TZID=Europe/London:20260325T111500
DTSTAMP:20260423T232613
CREATED:20221127T161404Z
LAST-MODIFIED:20230628T091158Z
UID:10002869-1774432800-1774437300@www.brightonbuddhistcentre.co.uk
SUMMARY:Gentle chair-based yoga with Lisa
DESCRIPTION:Lisa has been practicing yoga for over twenty years\, trained with the Vajrasati school. Further studies include Yoga Nidra with international teacher Kaya Mindlin. Lisa has taught at various studios in and around Brighton and has run chair yoga classes over the past four years\, for those with less mobility.  Her classes deeply focus on the breath as a way to restore balance to the mind and body\, encouraging play with movement and stillness to bring a feeling a vibrant awakeness through the whole system. \nfacebook.com/justyogabrighton \n£10 per class / £8 concession\nNo need to book just come along
URL:https://www.brightonbuddhistcentre.co.uk/whats-on/gentle-chair-based-yoga-with-lisa/2026-03-25/
LOCATION:The Brighton Buddhist Centre\, Brighton Buddhist Centre\, 17 Tichborne Street\, Brighton\, BN1 1UR\, United Kingdom
CATEGORIES:Yoga
ATTACH;FMTTYPE=image/png:https://www.brightonbuddhistcentre.co.uk/wp-content/uploads/2012/06/Lisa.png
END:VEVENT
BEGIN:VEVENT
DTSTART;TZID=Europe/London:20260324T180000
DTEND;TZID=Europe/London:20260324T190000
DTSTAMP:20260423T232613
CREATED:20251219T213408Z
LAST-MODIFIED:20251219T213410Z
UID:10005370-1774375200-1774378800@www.brightonbuddhistcentre.co.uk
SUMMARY:Tuesday evening drop-in meditation class for 18s - 35s
DESCRIPTION:Young Sangha Drop-in meditation class \nBy Donation
URL:https://www.brightonbuddhistcentre.co.uk/whats-on/tuesday-afternoon-drop-in-meditation-class-for-under-30s-2-2/2026-03-24/
LOCATION:The Brighton Buddhist Centre\, Brighton Buddhist Centre\, 17 Tichborne Street\, Brighton\, BN1 1UR\, United Kingdom
CATEGORIES:Meditation
ATTACH;FMTTYPE=image/jpeg:https://www.brightonbuddhistcentre.co.uk/wp-content/uploads/2023/09/PHOTO-2023-09-11-15-39-25-e1698853767869.jpg
END:VEVENT
BEGIN:VEVENT
DTSTART;TZID=Europe/London:20260324T130000
DTEND;TZID=Europe/London:20260324T134500
DTSTAMP:20260423T232613
CREATED:20240313T145717Z
LAST-MODIFIED:20240403T142942Z
UID:10011241-1774357200-1774359900@www.brightonbuddhistcentre.co.uk
SUMMARY:Tuesday lunchtime drop-in meditation class
DESCRIPTION:Tuesday  lunchtime drop-in meditation from 1pm to 1:45pm. \nA chance to practise either the Mindfulness of Breathing or the Metta Bhavana. \nAll welcome with introduction where needed or lightly led. \nBy donation
URL:https://www.brightonbuddhistcentre.co.uk/whats-on/tuesday-lunchtime-drop-in-meditation-class-2/2026-03-24/
LOCATION:The Brighton Buddhist Centre\, Brighton Buddhist Centre\, 17 Tichborne Street\, Brighton\, BN1 1UR\, United Kingdom
CATEGORIES:Meditation
ATTACH;FMTTYPE=image/jpeg:https://www.brightonbuddhistcentre.co.uk/wp-content/uploads/2024/03/Sthanasraddha.jpg
END:VEVENT
BEGIN:VEVENT
DTSTART;TZID=Europe/London:20260324T093000
DTEND;TZID=Europe/London:20260324T103000
DTSTAMP:20260423T232613
CREATED:20240117T113330Z
LAST-MODIFIED:20250521T104814Z
UID:10008506-1774344600-1774348200@www.brightonbuddhistcentre.co.uk
SUMMARY:Vajrasati yoga with Jim (Tuesday 8:15 am to 9:15 am)
DESCRIPTION:Jim’s teaching style blends a straight forward friendly approach with a deep undercurrent of understanding of ‘living anatomy’ and yoga philosophy. \nHis broad palette of techniques allows him to teach appropriately to people of all types to find their next step towards yoga’s ultimate goal of an effortless union with life. \nhttps://www.vajrasatiyoga.co.uk/calendar \n£10 full price. £8 concessions
URL:https://www.brightonbuddhistcentre.co.uk/whats-on/vajrasati-yoga-with-jim-27/2026-03-24/
LOCATION:The Brighton Buddhist Centre\, Brighton Buddhist Centre\, 17 Tichborne Street\, Brighton\, BN1 1UR\, United Kingdom
CATEGORIES:Yoga
ATTACH;FMTTYPE=image/jpeg:https://www.brightonbuddhistcentre.co.uk/wp-content/uploads/2013/04/Jim-Tarran.jpg
END:VEVENT
BEGIN:VEVENT
DTSTART;TZID=Europe/London:20260324T081500
DTEND;TZID=Europe/London:20260324T091500
DTSTAMP:20260423T232613
CREATED:20230628T091141Z
LAST-MODIFIED:20250521T104842Z
UID:10006523-1774340100-1774343700@www.brightonbuddhistcentre.co.uk
SUMMARY:Vajrasati yoga with Jim (Tuesday 9:30 am to 10:30 am)
DESCRIPTION:Jim’s teaching style blends a straight forward friendly approach with a deep undercurrent of understanding of ‘living anatomy’ and yoga philosophy. \nHis broad palette of techniques allows him to teach appropriately to people of all types to find their next step towards yoga’s ultimate goal of an effortless union with life. \nhttps://www.vajrasatiyoga.co.uk/calendar \n£10 full price. £8 concessions
URL:https://www.brightonbuddhistcentre.co.uk/whats-on/vajrasati-yoga-with-jim-6-2/2026-03-24/
LOCATION:The Brighton Buddhist Centre\, Brighton Buddhist Centre\, 17 Tichborne Street\, Brighton\, BN1 1UR\, United Kingdom
CATEGORIES:Yoga
ATTACH;FMTTYPE=image/jpeg:https://www.brightonbuddhistcentre.co.uk/wp-content/uploads/2013/04/Jim-Tarran.jpg
END:VEVENT
BEGIN:VEVENT
DTSTART;TZID=Europe/London:20260324T070000
DTEND;TZID=Europe/London:20260324T080000
DTSTAMP:20260423T232613
CREATED:20230628T091117Z
LAST-MODIFIED:20250521T104747Z
UID:10006289-1774335600-1774339200@www.brightonbuddhistcentre.co.uk
SUMMARY:Vajrasati yoga with Jim (Tuesday 7:00 am to 8:00 am)
DESCRIPTION:Jim’s teaching style blends a straight forward friendly approach with a deep undercurrent of understanding of ‘living anatomy’ and yoga philosophy. \nHis broad palette of techniques allows him to teach appropriately to people of all types to find their next step towards yoga’s ultimate goal of an effortless union with life. \nhttps://www.vajrasatiyoga.co.uk/calendar
URL:https://www.brightonbuddhistcentre.co.uk/whats-on/vajrasati-yoga-with-jim-5-2/2026-03-24/
LOCATION:The Brighton Buddhist Centre\, Brighton Buddhist Centre\, 17 Tichborne Street\, Brighton\, BN1 1UR\, United Kingdom
CATEGORIES:Yoga
ATTACH;FMTTYPE=image/jpeg:https://www.brightonbuddhistcentre.co.uk/wp-content/uploads/2013/04/Jim-Tarran.jpg
END:VEVENT
END:VCALENDAR