BEGIN:VCALENDAR
VERSION:2.0
PRODID:-//Brighton Buddhist Centre - ECPv6.15.20//NONSGML v1.0//EN
CALSCALE:GREGORIAN
METHOD:PUBLISH
X-WR-CALNAME:Brighton Buddhist Centre
X-ORIGINAL-URL:https://www.brightonbuddhistcentre.co.uk
X-WR-CALDESC:Events for Brighton Buddhist Centre
REFRESH-INTERVAL;VALUE=DURATION:PT1H
X-Robots-Tag:noindex
X-PUBLISHED-TTL:PT1H
BEGIN:VTIMEZONE
TZID:Europe/London
BEGIN:DAYLIGHT
TZOFFSETFROM:+0000
TZOFFSETTO:+0100
TZNAME:BST
DTSTART:20300331T010000
END:DAYLIGHT
BEGIN:STANDARD
TZOFFSETFROM:+0100
TZOFFSETTO:+0000
TZNAME:GMT
DTSTART:20301027T010000
END:STANDARD
BEGIN:DAYLIGHT
TZOFFSETFROM:+0000
TZOFFSETTO:+0100
TZNAME:BST
DTSTART:20310330T010000
END:DAYLIGHT
BEGIN:STANDARD
TZOFFSETFROM:+0100
TZOFFSETTO:+0000
TZNAME:GMT
DTSTART:20311026T010000
END:STANDARD
BEGIN:DAYLIGHT
TZOFFSETFROM:+0000
TZOFFSETTO:+0100
TZNAME:BST
DTSTART:20320328T010000
END:DAYLIGHT
BEGIN:STANDARD
TZOFFSETFROM:+0100
TZOFFSETTO:+0000
TZNAME:GMT
DTSTART:20321031T010000
END:STANDARD
END:VTIMEZONE
BEGIN:VEVENT
DTSTART;TZID=Europe/London:20310420T100000
DTEND;TZID=Europe/London:20310420T111500
DTSTAMP:20260423T153544
CREATED:20230628T093735Z
LAST-MODIFIED:20240102T174415Z
UID:10117984-1934445600-1934450100@www.brightonbuddhistcentre.co.uk
SUMMARY:Sunday mornings Vajrasati Yoga
DESCRIPTION:with Khadine and Pablo \nKhadine Morcom\nPablo\n 
URL:https://www.brightonbuddhistcentre.co.uk/whats-on/sunday-mornings-vajrasati-yoga/2031-04-20/
LOCATION:The Brighton Buddhist Centre\, Brighton Buddhist Centre\, 17 Tichborne Street\, Brighton\, BN1 1UR\, United Kingdom
CATEGORIES:Yoga
ATTACH;FMTTYPE=image/jpeg:https://www.brightonbuddhistcentre.co.uk/wp-content/uploads/2023/06/morning-2243465_640.jpg
END:VEVENT
BEGIN:VEVENT
DTSTART;TZID=Europe/London:20310421T094500
DTEND;TZID=Europe/London:20310421T110000
DTSTAMP:20260423T153544
CREATED:20260410T105116Z
LAST-MODIFIED:20260410T105412Z
UID:10117193-1934531100-1934535600@www.brightonbuddhistcentre.co.uk
SUMMARY:Scarvelli-Inspired Yoga Drop-In with Jane Manze
DESCRIPTION:MONDAYS \n\n\nPrice £12 \n\n\n(£10 for concessions) \n​Scarvelli-Inspired Yoga Drop-In with Jane Manze \n\n\n​Jane encourages students to enjoy greater body awareness within and around traditional yoga postures.  \n\n\nClasses also include breathing practice. \n \n​
URL:https://www.brightonbuddhistcentre.co.uk/whats-on/scarvelli-inspired-yoga-drop-in/2031-04-21/
LOCATION:The Brighton Buddhist Centre\, Brighton Buddhist Centre\, 17 Tichborne Street\, Brighton\, BN1 1UR\, United Kingdom
END:VEVENT
BEGIN:VEVENT
DTSTART;TZID=Europe/London:20310421T101500
DTEND;TZID=Europe/London:20310421T113000
DTSTAMP:20260423T153544
CREATED:20260422T183944Z
LAST-MODIFIED:20260422T183944Z
UID:10117457-1934532900-1934537400@www.brightonbuddhistcentre.co.uk
SUMMARY:Vajrasati Yoga with Khadine
DESCRIPTION:Khadine Morcom has been practising yoga since 1997 and teaching since 2004.\nShe is a Senior Teacher in the Vajrasati Yoga School and assists on the teacher training course. Her classes are deep\, kind and fun and her passion for the whole field of yoga\, along with her warm nature\, make classes with her uplifting and inspiring. \nHer studies in yoga have been with a wide range of international teachers and she finds inspiration in fusing yogic philosophy and embodied practice together. \nhttps://www.khadineyoga.com/ \n£12 full price. £10 concessions
URL:https://www.brightonbuddhistcentre.co.uk/whats-on/vajrasati-yoga-with-khadine-7/2031-04-21/
LOCATION:The Brighton Buddhist Centre\, Brighton Buddhist Centre\, 17 Tichborne Street\, Brighton\, BN1 1UR\, United Kingdom
ATTACH;FMTTYPE=image/jpeg:https://www.brightonbuddhistcentre.co.uk/wp-content/uploads/2012/06/Khadine-Morcom1-e1481647503602.jpg
END:VEVENT
BEGIN:VEVENT
DTSTART;TZID=Europe/London:20310421T130000
DTEND;TZID=Europe/London:20310421T134500
DTSTAMP:20260423T153544
CREATED:20251219T213225Z
LAST-MODIFIED:20260422T191925Z
UID:10117195-1934542800-1934545500@www.brightonbuddhistcentre.co.uk
SUMMARY:Monday Lunchtime Meditation
DESCRIPTION:You are warmly invited to come along to a drop-in meditation class. Whether you are just starting out on your meditation journey or want to boost your own practice you are welcome to come along. Meditations will be lightly led. \nLed by Amoghavajri and Shuddhadhara \nGenerosity and Giving | Brighton Buddhist Centre
URL:https://www.brightonbuddhistcentre.co.uk/whats-on/monday-lunchtime-meditation-2/2031-04-21/
LOCATION:The Brighton Buddhist Centre\, Brighton Buddhist Centre\, 17 Tichborne Street\, Brighton\, BN1 1UR\, United Kingdom
CATEGORIES:Meditation
ATTACH;FMTTYPE=image/webp:https://www.brightonbuddhistcentre.co.uk/wp-content/uploads/2026/04/AV-and-SD.webp
END:VEVENT
END:VCALENDAR