BEGIN:VCALENDAR
VERSION:2.0
PRODID:-//Brighton Buddhist Centre - ECPv6.15.20//NONSGML v1.0//EN
CALSCALE:GREGORIAN
METHOD:PUBLISH
X-WR-CALNAME:Brighton Buddhist Centre
X-ORIGINAL-URL:https://www.brightonbuddhistcentre.co.uk
X-WR-CALDESC:Events for Brighton Buddhist Centre
REFRESH-INTERVAL;VALUE=DURATION:PT1H
X-Robots-Tag:noindex
X-PUBLISHED-TTL:PT1H
BEGIN:VTIMEZONE
TZID:Europe/London
BEGIN:DAYLIGHT
TZOFFSETFROM:+0000
TZOFFSETTO:+0100
TZNAME:BST
DTSTART:20300331T010000
END:DAYLIGHT
BEGIN:STANDARD
TZOFFSETFROM:+0100
TZOFFSETTO:+0000
TZNAME:GMT
DTSTART:20301027T010000
END:STANDARD
BEGIN:DAYLIGHT
TZOFFSETFROM:+0000
TZOFFSETTO:+0100
TZNAME:BST
DTSTART:20310330T010000
END:DAYLIGHT
BEGIN:STANDARD
TZOFFSETFROM:+0100
TZOFFSETTO:+0000
TZNAME:GMT
DTSTART:20311026T010000
END:STANDARD
BEGIN:DAYLIGHT
TZOFFSETFROM:+0000
TZOFFSETTO:+0100
TZNAME:BST
DTSTART:20320328T010000
END:DAYLIGHT
BEGIN:STANDARD
TZOFFSETFROM:+0100
TZOFFSETTO:+0000
TZNAME:GMT
DTSTART:20321031T010000
END:STANDARD
END:VTIMEZONE
BEGIN:VEVENT
DTSTART;TZID=Europe/London:20310421T101500
DTEND;TZID=Europe/London:20310421T113000
DTSTAMP:20260425T121716
CREATED:20260422T183944Z
LAST-MODIFIED:20260422T183944Z
UID:10117457-1934532900-1934537400@www.brightonbuddhistcentre.co.uk
SUMMARY:Vajrasati Yoga with Khadine
DESCRIPTION:Khadine Morcom has been practising yoga since 1997 and teaching since 2004.\nShe is a Senior Teacher in the Vajrasati Yoga School and assists on the teacher training course. Her classes are deep\, kind and fun and her passion for the whole field of yoga\, along with her warm nature\, make classes with her uplifting and inspiring. \nHer studies in yoga have been with a wide range of international teachers and she finds inspiration in fusing yogic philosophy and embodied practice together. \nhttps://www.khadineyoga.com/ \n£12 full price. £10 concessions
URL:https://www.brightonbuddhistcentre.co.uk/whats-on/vajrasati-yoga-with-khadine-7/2031-04-21/
LOCATION:The Brighton Buddhist Centre\, Brighton Buddhist Centre\, 17 Tichborne Street\, Brighton\, BN1 1UR\, United Kingdom
ATTACH;FMTTYPE=image/jpeg:https://www.brightonbuddhistcentre.co.uk/wp-content/uploads/2012/06/Khadine-Morcom1-e1481647503602.jpg
END:VEVENT
BEGIN:VEVENT
DTSTART;TZID=Europe/London:20310421T130000
DTEND;TZID=Europe/London:20310421T134500
DTSTAMP:20260425T121716
CREATED:20251219T213225Z
LAST-MODIFIED:20260422T191925Z
UID:10117195-1934542800-1934545500@www.brightonbuddhistcentre.co.uk
SUMMARY:Monday Lunchtime Meditation
DESCRIPTION:You are warmly invited to come along to a drop-in meditation class. Whether you are just starting out on your meditation journey or want to boost your own practice you are welcome to come along. Meditations will be lightly led. \nLed by Amoghavajri and Shuddhadhara \nGenerosity and Giving | Brighton Buddhist Centre
URL:https://www.brightonbuddhistcentre.co.uk/whats-on/monday-lunchtime-meditation-2/2031-04-21/
LOCATION:The Brighton Buddhist Centre\, Brighton Buddhist Centre\, 17 Tichborne Street\, Brighton\, BN1 1UR\, United Kingdom
CATEGORIES:Meditation
ATTACH;FMTTYPE=image/webp:https://www.brightonbuddhistcentre.co.uk/wp-content/uploads/2026/04/AV-and-SD.webp
END:VEVENT
BEGIN:VEVENT
DTSTART;TZID=Europe/London:20310422T070000
DTEND;TZID=Europe/London:20310422T080000
DTSTAMP:20260425T121716
CREATED:20230628T091117Z
LAST-MODIFIED:20250521T104747Z
UID:10117985-1934607600-1934611200@www.brightonbuddhistcentre.co.uk
SUMMARY:Vajrasati yoga with Jim (Tuesday 7:00 am to 8:00 am)
DESCRIPTION:Jim’s teaching style blends a straight forward friendly approach with a deep undercurrent of understanding of ‘living anatomy’ and yoga philosophy. \nHis broad palette of techniques allows him to teach appropriately to people of all types to find their next step towards yoga’s ultimate goal of an effortless union with life. \nhttps://www.vajrasatiyoga.co.uk/calendar
URL:https://www.brightonbuddhistcentre.co.uk/whats-on/vajrasati-yoga-with-jim-5-2/2031-04-22/
LOCATION:The Brighton Buddhist Centre\, Brighton Buddhist Centre\, 17 Tichborne Street\, Brighton\, BN1 1UR\, United Kingdom
CATEGORIES:Yoga
ATTACH;FMTTYPE=image/jpeg:https://www.brightonbuddhistcentre.co.uk/wp-content/uploads/2013/04/Jim-Tarran.jpg
END:VEVENT
BEGIN:VEVENT
DTSTART;TZID=Europe/London:20310422T081500
DTEND;TZID=Europe/London:20310422T091500
DTSTAMP:20260425T121716
CREATED:20230628T091141Z
LAST-MODIFIED:20250521T104842Z
UID:10117986-1934612100-1934615700@www.brightonbuddhistcentre.co.uk
SUMMARY:Vajrasati yoga with Jim (Tuesday 9:30 am to 10:30 am)
DESCRIPTION:Jim’s teaching style blends a straight forward friendly approach with a deep undercurrent of understanding of ‘living anatomy’ and yoga philosophy. \nHis broad palette of techniques allows him to teach appropriately to people of all types to find their next step towards yoga’s ultimate goal of an effortless union with life. \nhttps://www.vajrasatiyoga.co.uk/calendar \n£10 full price. £8 concessions
URL:https://www.brightonbuddhistcentre.co.uk/whats-on/vajrasati-yoga-with-jim-6-2/2031-04-22/
LOCATION:The Brighton Buddhist Centre\, Brighton Buddhist Centre\, 17 Tichborne Street\, Brighton\, BN1 1UR\, United Kingdom
CATEGORIES:Yoga
ATTACH;FMTTYPE=image/jpeg:https://www.brightonbuddhistcentre.co.uk/wp-content/uploads/2013/04/Jim-Tarran.jpg
END:VEVENT
BEGIN:VEVENT
DTSTART;TZID=Europe/London:20310422T093000
DTEND;TZID=Europe/London:20310422T103000
DTSTAMP:20260425T121716
CREATED:20240117T113330Z
LAST-MODIFIED:20250521T104814Z
UID:10117987-1934616600-1934620200@www.brightonbuddhistcentre.co.uk
SUMMARY:Vajrasati yoga with Jim (Tuesday 8:15 am to 9:15 am)
DESCRIPTION:Jim’s teaching style blends a straight forward friendly approach with a deep undercurrent of understanding of ‘living anatomy’ and yoga philosophy. \nHis broad palette of techniques allows him to teach appropriately to people of all types to find their next step towards yoga’s ultimate goal of an effortless union with life. \nhttps://www.vajrasatiyoga.co.uk/calendar \n£10 full price. £8 concessions
URL:https://www.brightonbuddhistcentre.co.uk/whats-on/vajrasati-yoga-with-jim-27/2031-04-22/
LOCATION:The Brighton Buddhist Centre\, Brighton Buddhist Centre\, 17 Tichborne Street\, Brighton\, BN1 1UR\, United Kingdom
CATEGORIES:Yoga
ATTACH;FMTTYPE=image/jpeg:https://www.brightonbuddhistcentre.co.uk/wp-content/uploads/2013/04/Jim-Tarran.jpg
END:VEVENT
BEGIN:VEVENT
DTSTART;TZID=Europe/London:20310422T130000
DTEND;TZID=Europe/London:20310422T134500
DTSTAMP:20260425T121716
CREATED:20240313T145717Z
LAST-MODIFIED:20240403T142942Z
UID:10117988-1934629200-1934631900@www.brightonbuddhistcentre.co.uk
SUMMARY:Tuesday lunchtime drop-in meditation class
DESCRIPTION:Tuesday  lunchtime drop-in meditation from 1pm to 1:45pm. \nA chance to practise either the Mindfulness of Breathing or the Metta Bhavana. \nAll welcome with introduction where needed or lightly led. \nBy donation
URL:https://www.brightonbuddhistcentre.co.uk/whats-on/tuesday-lunchtime-drop-in-meditation-class-2/2031-04-22/
LOCATION:The Brighton Buddhist Centre\, Brighton Buddhist Centre\, 17 Tichborne Street\, Brighton\, BN1 1UR\, United Kingdom
CATEGORIES:Meditation
ATTACH;FMTTYPE=image/jpeg:https://www.brightonbuddhistcentre.co.uk/wp-content/uploads/2024/03/Sthanasraddha.jpg
END:VEVENT
BEGIN:VEVENT
DTSTART;TZID=Europe/London:20310422T180000
DTEND;TZID=Europe/London:20310422T190000
DTSTAMP:20260425T121716
CREATED:20251219T213408Z
LAST-MODIFIED:20251219T213410Z
UID:10117989-1934647200-1934650800@www.brightonbuddhistcentre.co.uk
SUMMARY:Tuesday evening drop-in meditation class for 18s - 35s
DESCRIPTION:Young Sangha Drop-in meditation class \nBy Donation
URL:https://www.brightonbuddhistcentre.co.uk/whats-on/tuesday-afternoon-drop-in-meditation-class-for-under-30s-2-2/2031-04-22/
LOCATION:The Brighton Buddhist Centre\, Brighton Buddhist Centre\, 17 Tichborne Street\, Brighton\, BN1 1UR\, United Kingdom
CATEGORIES:Meditation
ATTACH;FMTTYPE=image/jpeg:https://www.brightonbuddhistcentre.co.uk/wp-content/uploads/2023/09/PHOTO-2023-09-11-15-39-25-e1698853767869.jpg
END:VEVENT
END:VCALENDAR