BEGIN:VCALENDAR
VERSION:2.0
PRODID:-//Brighton Buddhist Centre - ECPv6.15.20//NONSGML v1.0//EN
CALSCALE:GREGORIAN
METHOD:PUBLISH
X-WR-CALNAME:Brighton Buddhist Centre
X-ORIGINAL-URL:https://www.brightonbuddhistcentre.co.uk
X-WR-CALDESC:Events for Brighton Buddhist Centre
REFRESH-INTERVAL;VALUE=DURATION:PT1H
X-Robots-Tag:noindex
X-PUBLISHED-TTL:PT1H
BEGIN:VTIMEZONE
TZID:Europe/London
BEGIN:DAYLIGHT
TZOFFSETFROM:+0000
TZOFFSETTO:+0100
TZNAME:BST
DTSTART:20250330T010000
END:DAYLIGHT
BEGIN:STANDARD
TZOFFSETFROM:+0100
TZOFFSETTO:+0000
TZNAME:GMT
DTSTART:20251026T010000
END:STANDARD
BEGIN:DAYLIGHT
TZOFFSETFROM:+0000
TZOFFSETTO:+0100
TZNAME:BST
DTSTART:20260329T010000
END:DAYLIGHT
BEGIN:STANDARD
TZOFFSETFROM:+0100
TZOFFSETTO:+0000
TZNAME:GMT
DTSTART:20261025T010000
END:STANDARD
BEGIN:DAYLIGHT
TZOFFSETFROM:+0000
TZOFFSETTO:+0100
TZNAME:BST
DTSTART:20270328T010000
END:DAYLIGHT
BEGIN:STANDARD
TZOFFSETFROM:+0100
TZOFFSETTO:+0000
TZNAME:GMT
DTSTART:20271031T010000
END:STANDARD
END:VTIMEZONE
BEGIN:VEVENT
DTSTART;TZID=Europe/London:20260325T130000
DTEND;TZID=Europe/London:20260325T134500
DTSTAMP:20260425T031659
CREATED:20251219T161901Z
LAST-MODIFIED:20251219T161903Z
UID:10006811-1774443600-1774446300@www.brightonbuddhistcentre.co.uk
SUMMARY:Wednesday lunchtime drop-in meditation class
DESCRIPTION:Whether you have never been to the Buddhist Centre before or are a seasoned regular you are warmly invited to join us. We begin with a guided body scan\, followed by an introduction to the mindfulness of breathing practice. We conclude with a lightly led metta bhavana meditation. \nBy donation
URL:https://www.brightonbuddhistcentre.co.uk/whats-on/wednesday-lunchtime-drop-in-meditation-class-2/2026-03-25/
LOCATION:The Brighton Buddhist Centre\, Brighton Buddhist Centre\, 17 Tichborne Street\, Brighton\, BN1 1UR\, United Kingdom
CATEGORIES:Meditation
ATTACH;FMTTYPE=image/jpeg:https://www.brightonbuddhistcentre.co.uk/wp-content/uploads/2020/08/IMG_6831.jpg
END:VEVENT
BEGIN:VEVENT
DTSTART;TZID=Europe/London:20260325T100000
DTEND;TZID=Europe/London:20260325T111500
DTSTAMP:20260425T031659
CREATED:20221127T161404Z
LAST-MODIFIED:20230628T091158Z
UID:10002869-1774432800-1774437300@www.brightonbuddhistcentre.co.uk
SUMMARY:Gentle chair-based yoga with Lisa
DESCRIPTION:Lisa has been practicing yoga for over twenty years\, trained with the Vajrasati school. Further studies include Yoga Nidra with international teacher Kaya Mindlin. Lisa has taught at various studios in and around Brighton and has run chair yoga classes over the past four years\, for those with less mobility.  Her classes deeply focus on the breath as a way to restore balance to the mind and body\, encouraging play with movement and stillness to bring a feeling a vibrant awakeness through the whole system. \nfacebook.com/justyogabrighton \n£10 per class / £8 concession\nNo need to book just come along
URL:https://www.brightonbuddhistcentre.co.uk/whats-on/gentle-chair-based-yoga-with-lisa/2026-03-25/
LOCATION:The Brighton Buddhist Centre\, Brighton Buddhist Centre\, 17 Tichborne Street\, Brighton\, BN1 1UR\, United Kingdom
CATEGORIES:Yoga
ATTACH;FMTTYPE=image/png:https://www.brightonbuddhistcentre.co.uk/wp-content/uploads/2012/06/Lisa.png
END:VEVENT
END:VCALENDAR